BEGIN:VCALENDAR
VERSION:2.0
PRODID:-//Stichting Normen en Veiligheid - ECPv6.15.11//NONSGML v1.0//EN
CALSCALE:GREGORIAN
METHOD:PUBLISH
X-WR-CALNAME:Stichting Normen en Veiligheid
X-ORIGINAL-URL:https://normenveiligheid.nl
X-WR-CALDESC:Events for Stichting Normen en Veiligheid
REFRESH-INTERVAL;VALUE=DURATION:PT1H
X-Robots-Tag:noindex
X-PUBLISHED-TTL:PT1H
BEGIN:VTIMEZONE
TZID:UTC
BEGIN:STANDARD
TZOFFSETFROM:+0000
TZOFFSETTO:+0000
TZNAME:UTC
DTSTART:20250101T000000
END:STANDARD
END:VTIMEZONE
BEGIN:VEVENT
DTSTART;TZID=UTC:20260410T080000
DTEND;TZID=UTC:20260410T170000
DTSTAMP:20260420T160243
CREATED:20251113T093233Z
LAST-MODIFIED:20251113T093405Z
UID:3131-1775808000-1775840400@normenveiligheid.nl
SUMMARY:SIL
DESCRIPTION:SIL bijeenkomstAgenda volgt
URL:https://normenveiligheid.nl/bijeenkomst/sil-3/
LOCATION:TKE Home Solutions\, Van Utrechtweg 99\, Krimpen aan den IJssel\, 2921LN\, Netherlands
CATEGORIES:Event
ATTACH;FMTTYPE=image/jpeg:https://normenveiligheid.nl/wp-content/uploads/2025/11/TKE.jpg
END:VEVENT
END:VCALENDAR