BEGIN:VCALENDAR
VERSION:2.0
PRODID:-//Stichting Normen en Veiligheid - ECPv6.15.11//NONSGML v1.0//EN
CALSCALE:GREGORIAN
METHOD:PUBLISH
X-WR-CALNAME:Stichting Normen en Veiligheid
X-ORIGINAL-URL:https://normenveiligheid.nl
X-WR-CALDESC:Events for Stichting Normen en Veiligheid
REFRESH-INTERVAL;VALUE=DURATION:PT1H
X-Robots-Tag:noindex
X-PUBLISHED-TTL:PT1H
BEGIN:VTIMEZONE
TZID:UTC
BEGIN:STANDARD
TZOFFSETFROM:+0000
TZOFFSETTO:+0000
TZNAME:UTC
DTSTART:20240101T000000
END:STANDARD
END:VTIMEZONE
BEGIN:VEVENT
DTSTART;TZID=UTC:20250509T000000
DTEND;TZID=UTC:20250509T170000
DTSTAMP:20260421T091129
CREATED:20210915T072505Z
LAST-MODIFIED:20250407T161853Z
UID:2269-1746748800-1746810000@normenveiligheid.nl
SUMMARY:Machineveiligheid
DESCRIPTION:Machineveiligheid bijeenkomstNa een mooie bijeenkomst in Arnhem – waarvoor dank aan de gastheer en uiteraard Pouw Jongbloed – organiseren we nu een bijeenkomst in Bitlhoven\, bij SICK. \nProgramma\n12:00-13:30 Lunch/rondleiding (en o.a. vooruitblik EN 13855\, e.d.) \n13:30 Opening / Paul Hoogerkamp/Pouw Jongbloed: \n\n\n\nvaststellen agenda\nalgemene mededelingen secretaris stichting NENV/Gert Hofs\nalgemene mededelingen platform Machineveiligheid/Koen Krikke\nEN-ISO 12100 / Machineverordening en de normen / Paul Hoogerkamp\n\n\n\n13:55 EN-ISO 13855 updates? / Martijn Drost \n14:15 Warmte in e-kasten in de praktijk /Benk Benckhuisen \n15:15 Pauze \n15:30 Warmte in e-kasten in de praktijk en discussie /Benk Benckhuisen \n16:45 Rondvraag/afspraken volgende meeting (locatie\, tijd) \n17:00 Afsluiting.
URL:https://normenveiligheid.nl/bijeenkomst/machineveiligheid/
LOCATION:Sick\, Leyenseweg 111\, Bilthoven\, 3721BC\, Netherlands
CATEGORIES:Event
ATTACH;FMTTYPE=image/png:https://normenveiligheid.nl/wp-content/uploads/2021/09/sick.png
END:VEVENT
END:VCALENDAR