BEGIN:VCALENDAR
VERSION:2.0
PRODID:-//Stichting Normen en Veiligheid - ECPv6.15.11//NONSGML v1.0//EN
CALSCALE:GREGORIAN
METHOD:PUBLISH
X-ORIGINAL-URL:https://normenveiligheid.nl
X-WR-CALDESC:Events for Stichting Normen en Veiligheid
REFRESH-INTERVAL;VALUE=DURATION:PT1H
X-Robots-Tag:noindex
X-PUBLISHED-TTL:PT1H
BEGIN:VTIMEZONE
TZID:UTC
BEGIN:STANDARD
TZOFFSETFROM:+0000
TZOFFSETTO:+0000
TZNAME:UTC
DTSTART:20240101T000000
END:STANDARD
END:VTIMEZONE
BEGIN:VEVENT
DTSTART;TZID=UTC:20250411T080000
DTEND;TZID=UTC:20250411T170000
DTSTAMP:20260423T100441
CREATED:20171114T162023Z
LAST-MODIFIED:20250410T144255Z
UID:1861-1744358400-1744390800@normenveiligheid.nl
SUMMARY:SIL
DESCRIPTION:SIL bijeenkomst\n\n\n\n\n\n\n\nTijd \n\n\nOnderwerp \n\n\nDoor / Doc. nr. \n\n\n\n\n\n\n\n09.30 u. \n\n\nOntvangst en gelegenheid tot bijpraten \n\n\n\n\n\n\n\n\n\n\n10.00 u. \n\n\nOpening en voorstelronde \n\n\nJ. Coenen \n\n\n\n\n\n\n\n10.05 u. \n\n\nPresentatie Plug Power \n\n\nJ. Otten \n\n\n\n\n\n\n\n10.30 u. \n\n\nBedrijfsbezoek Plug Power \n\n\nJ. Otten / \nF. Soetens \n\n\n\n\n\n\n\n12.00 u. \n\n\nLunch en Teamfoto \n\n\nJ. Coenen \n\n\n\n\n\n\n\n13.00 u. \n\n\nSeveso Inspecties en SIL in de praktijk \n\n\nF. Jongsma \n\n\n\n\n\n\n\n14.00 u. \n\n\nPauze \n\n\n\n\n\n\n\n\n\n\n14:15 u. \n\n\nStichting Normen en Veiligheid \n\n\nJ. Coenen \n\n\n\n\n\n\n\n14.30 u. \n\n\nNormalisatie nieuws \n\n\nR. Wolters \n\n\n\n\n\n\n\n15.00 u. \n\n\nOnderwerpen voor volgende vergadering \n\n\nJ. Coenen \n\n\n\n\n\n\n\n15.10 u. \n\n\nDatum en plaats volgende vergadering \n\n\nJ. Coenen \n\n\n\n\n\n\n\n15.15 u. \n\n\nRondvraag \n\n\nJ. Coenen \n\n\n\n\n\n\n\n15.30 u. \n\n\nSluiting \n\n\nJ. Coenen
URL:https://normenveiligheid.nl/bijeenkomst/sil/
LOCATION:Plug Power\, Eikenlaan 237\, Alphen aan den Rijn\, 2404 BP\, Netherlands
CATEGORIES:Event
ATTACH;FMTTYPE=image/png:https://normenveiligheid.nl/wp-content/uploads/2021/09/3.png
END:VEVENT
END:VCALENDAR