BEGIN:VCALENDAR
VERSION:2.0
PRODID:-//Stichting Normen en Veiligheid - ECPv6.15.11//NONSGML v1.0//EN
CALSCALE:GREGORIAN
METHOD:PUBLISH
X-WR-CALNAME:Stichting Normen en Veiligheid
X-ORIGINAL-URL:https://normenveiligheid.nl
X-WR-CALDESC:Events for Stichting Normen en Veiligheid
REFRESH-INTERVAL;VALUE=DURATION:PT1H
X-Robots-Tag:noindex
X-PUBLISHED-TTL:PT1H
BEGIN:VTIMEZONE
TZID:UTC
BEGIN:STANDARD
TZOFFSETFROM:+0000
TZOFFSETTO:+0000
TZNAME:UTC
DTSTART:20240101T000000
END:STANDARD
END:VTIMEZONE
BEGIN:VEVENT
DTSTART;TZID=UTC:20251010T080000
DTEND;TZID=UTC:20251010T170000
DTSTAMP:20260421T001655
CREATED:20250416T083014Z
LAST-MODIFIED:20251011T193656Z
UID:2953-1760083200-1760115600@normenveiligheid.nl
SUMMARY:SIL
DESCRIPTION:SIL bijeenkomstZie hier de foto’s van de succesvolle bijeenkomst.
URL:https://normenveiligheid.nl/bijeenkomst/sil-2/
LOCATION:KROHNE\, Kerkeplaat 14\, Dordrecht\, Netherlands
CATEGORIES:Event
ATTACH;FMTTYPE=image/png:https://normenveiligheid.nl/wp-content/uploads/2025/04/dordrecht.png
END:VEVENT
BEGIN:VEVENT
DTSTART;TZID=UTC:20251030T100000
DTEND;TZID=UTC:20251030T163000
DTSTAMP:20260421T001655
CREATED:20250926T123432Z
LAST-MODIFIED:20251031T090054Z
UID:3054-1761818400-1761841800@normenveiligheid.nl
SUMMARY:ATEX153
DESCRIPTION:ATEX 153 bijeenkomstAgenda \n1. Opening \n2. Goedkeuring van de agenda \n3. Ledenmutaties\, presentielijst\, goedkeuren notulen bijeenkomst 2025-05-15 (bijlage 1) \n4. Actiepunten \n5. Technical topic: Ontbrekende Ex-markering \nPauze \n6. Technical topic: H2-gas metingen bij acculaadplekken in grote opslaghallen \n7. Dare to share: mededelingen / vragen vanuit de leden \nLunchpauze en netwerken \n8. Technical topic: Statische elektriciteit bij vloeistoffen \n9. Technical topic: Digitale doorbraak\, risico’s omlaag door as-built ATEX-assets in 3D omgeving \n10. Dare to share: mededelingen / vragen vanuit de leden \n11. Normalisatienieuws Normcie. Explosieveiligheid\nGerdian (60079-10\, NPR7910\, NTA 7914); Karel (-14\, -17); Theo (-19) \n12. Onderwerpen\, rondvraag\, datum en plaats volgende bijeenkomst (Zie mogelijke onderwerpen in bijlage 2) \n13. Sluiting \n 
URL:https://normenveiligheid.nl/bijeenkomst/atex153-2/
LOCATION:Delta Hotel Vlaardingen\, Maasboulevard 15\, Vlaardingen\, Netherlands
CATEGORIES:Event
ATTACH;FMTTYPE=image/jpeg:https://normenveiligheid.nl/wp-content/uploads/2016/03/pexels-dhenry-8540599-scaled.jpg
ORGANIZER;CN="ATEX153":MAILTO:atex153@normenveiligheid.nl
END:VEVENT
END:VCALENDAR